BEGIN:VCALENDAR
VERSION:2.0
PRODID:-// - ECPv6.15.13.1//NONSGML v1.0//EN
CALSCALE:GREGORIAN
METHOD:PUBLISH
X-ORIGINAL-URL:https://naturfreunde.wilthen.de
X-WR-CALDESC:Veranstaltungen für 
REFRESH-INTERVAL;VALUE=DURATION:PT1H
X-Robots-Tag:noindex
X-PUBLISHED-TTL:PT1H
BEGIN:VTIMEZONE
TZID:Europe/Berlin
BEGIN:DAYLIGHT
TZOFFSETFROM:+0100
TZOFFSETTO:+0200
TZNAME:CEST
DTSTART:20250330T010000
END:DAYLIGHT
BEGIN:STANDARD
TZOFFSETFROM:+0200
TZOFFSETTO:+0100
TZNAME:CET
DTSTART:20251026T010000
END:STANDARD
BEGIN:DAYLIGHT
TZOFFSETFROM:+0100
TZOFFSETTO:+0200
TZNAME:CEST
DTSTART:20260329T010000
END:DAYLIGHT
BEGIN:STANDARD
TZOFFSETFROM:+0200
TZOFFSETTO:+0100
TZNAME:CET
DTSTART:20261025T010000
END:STANDARD
BEGIN:DAYLIGHT
TZOFFSETFROM:+0100
TZOFFSETTO:+0200
TZNAME:CEST
DTSTART:20270328T010000
END:DAYLIGHT
BEGIN:STANDARD
TZOFFSETFROM:+0200
TZOFFSETTO:+0100
TZNAME:CET
DTSTART:20271031T010000
END:STANDARD
END:VTIMEZONE
BEGIN:VEVENT
DTSTART;VALUE=DATE:20260620
DTEND;VALUE=DATE:20260622
DTSTAMP:20260424T172315
CREATED:20251013T092851Z
LAST-MODIFIED:20260409T150707Z
UID:2456-1781913600-1782086399@naturfreunde.wilthen.de
SUMMARY:Sommerfest
DESCRIPTION:
URL:https://naturfreunde.wilthen.de/event/sommerfest-2/
LOCATION:Naturfreundehütte „Sonnenblick“ Wilthen\, Weifaer Straße 20\, Wilthen\, Sachsen\, 02681\, Deutschland
ATTACH;FMTTYPE=image/jpeg:https://naturfreunde.wilthen.de/wp-content/uploads/2025/10/Sommerfest-2026-scaled.jpg
END:VEVENT
BEGIN:VEVENT
DTSTART;VALUE=DATE:20260621
DTEND;VALUE=DATE:20260622
DTSTAMP:20260424T172315
CREATED:20251013T093102Z
LAST-MODIFIED:20251013T093116Z
UID:2458-1782000000-1782086399@naturfreunde.wilthen.de
SUMMARY:21. Pumphutsteigwandertag
DESCRIPTION:
URL:https://naturfreunde.wilthen.de/event/21-pumphutsteigwanderung/
LOCATION:An der Pumphutfigur\, Bahnhofstraße 5\, Wilthen
END:VEVENT
END:VCALENDAR